BEGIN:VCALENDAR
VERSION:2.0
PRODID:-//Wharton Arts - ECPv6.15.20//NONSGML v1.0//EN
CALSCALE:GREGORIAN
METHOD:PUBLISH
X-WR-CALNAME:Wharton Arts
X-ORIGINAL-URL:https://whartonarts.org
X-WR-CALDESC:Events for Wharton Arts
REFRESH-INTERVAL;VALUE=DURATION:PT1H
X-Robots-Tag:noindex
X-PUBLISHED-TTL:PT1H
BEGIN:VTIMEZONE
TZID:America/New_York
BEGIN:DAYLIGHT
TZOFFSETFROM:-0500
TZOFFSETTO:-0400
TZNAME:EDT
DTSTART:20250309T070000
END:DAYLIGHT
BEGIN:STANDARD
TZOFFSETFROM:-0400
TZOFFSETTO:-0500
TZNAME:EST
DTSTART:20251102T060000
END:STANDARD
BEGIN:DAYLIGHT
TZOFFSETFROM:-0500
TZOFFSETTO:-0400
TZNAME:EDT
DTSTART:20260308T070000
END:DAYLIGHT
BEGIN:STANDARD
TZOFFSETFROM:-0400
TZOFFSETTO:-0500
TZNAME:EST
DTSTART:20261101T060000
END:STANDARD
BEGIN:DAYLIGHT
TZOFFSETFROM:-0500
TZOFFSETTO:-0400
TZNAME:EDT
DTSTART:20270314T070000
END:DAYLIGHT
BEGIN:STANDARD
TZOFFSETFROM:-0400
TZOFFSETTO:-0500
TZNAME:EST
DTSTART:20271107T060000
END:STANDARD
END:VTIMEZONE
BEGIN:VEVENT
DTSTART;TZID=America/New_York:20260425T160000
DTEND;TZID=America/New_York:20260425T173000
DTSTAMP:20260422T110729
CREATED:20260126T230800Z
LAST-MODIFIED:20260414T171352Z
UID:10000442-1777132800-1777138200@whartonarts.org
SUMMARY:PMP: Day of Jazz
DESCRIPTION:PMP: Day of Jazz\nApril 25\, 2026 at 4:00 p.m.\nJohn F. Kennedy High School\, Paterson\nFREE Event\nSuggested donation of canned or dry food. \nThe Third Annual Day of Jazz will feature all PMP jazz and contemporary ensembles. Come celebrate the life and music of legendary salsa percussionist Tito Puente with us as we perform some of his greatest hits!
URL:https://whartonarts.org/calendar/pmp-day-of-jazz/
LOCATION:John F. Kennedy High School\, 61-127 Preakness Avenue\, Paterson\, NJ\, 07522\, United States
CATEGORIES:PMP,Wharton
ATTACH;FMTTYPE=image/jpeg:https://whartonarts.org/wp-content/uploads/2026/01/Day-of-Jazz-2-scaled.jpg
ORGANIZER;CN="PMP":MAILTO:info@PatersonMusicProject.org
END:VEVENT
BEGIN:VEVENT
DTSTART;TZID=America/New_York:20260427T190000
DTEND;TZID=America/New_York:20260427T200000
DTSTAMP:20260422T110729
CREATED:20260409T180150Z
LAST-MODIFIED:20260409T180150Z
UID:10000454-1777316400-1777320000@whartonarts.org
SUMMARY:Online Workshop: From Idea to Score: Inside the Creative Process with Composer Quinn Mason
DESCRIPTION:Online Workshop: From Idea to Score: Inside the Creative Process with Composer Quinn Mason\nMonday\, April 27 from 7:00-8:00 p.m.\nFREE Online Workshop | Register HERE \nStep inside a composer’s mind and discover how music comes to life from first idea to finished score. Open to students of all ages and levels\, this FREE session invites you to ask questions\, engage in discussion\, and find inspiration for your own creative work. \nMade possible through the support of The Galanthus Foundation Trust
URL:https://whartonarts.org/calendar/online-workshop-from-idea-to-score-inside-the-creative-process-with-composer-quinn-mason/
CATEGORIES:NJYC,NJYS,PAS,PMP,Wharton
ATTACH;FMTTYPE=image/jpeg:https://whartonarts.org/wp-content/uploads/2026/04/Quinn-Mason.jpg
ORGANIZER;CN="Wharton Arts":MAILTO:info@wmcmusic.org
END:VEVENT
BEGIN:VEVENT
DTSTART;TZID=America/New_York:20260509T160000
DTEND;TZID=America/New_York:20260509T173000
DTSTAMP:20260422T110729
CREATED:20260126T231140Z
LAST-MODIFIED:20260206T212047Z
UID:10000443-1778342400-1778347800@whartonarts.org
SUMMARY:PMP: Spring Concert
DESCRIPTION:PMP: Spring Concert\nMay 9\, 2026 at 4:00 p.m.\nWilliam Paterson University\, Wayne\nFREE Event\nSuggested donation of canned or dry food. \nLeap into spring with PMP’s advanced ensembles! Featuring Silk City Symphony\, Symphonic Band\, Harmony Strings\, School 6’s Senators of Swing\, Guitar Ensemble\, and more.
URL:https://whartonarts.org/calendar/pmpspring-concert/
LOCATION:William Patterson University\, 300 Pompton Road\, Wayne\, NJ\, 07470\, United States
CATEGORIES:PMP,Wharton
ATTACH;FMTTYPE=image/jpeg:https://whartonarts.org/wp-content/uploads/2026/01/Spring-Concert-2-scaled.jpg
ORGANIZER;CN="PMP":MAILTO:info@PatersonMusicProject.org
END:VEVENT
BEGIN:VEVENT
DTSTART;VALUE=DATE:20260523
DTEND;VALUE=DATE:20260526
DTSTAMP:20260422T110729
CREATED:20251114T192844Z
LAST-MODIFIED:20251114T192844Z
UID:10000411-1779494400-1779753599@whartonarts.org
SUMMARY:Memorial Day Weekend: WA Offices Closed
DESCRIPTION:Wharton Arts administrative offices will be closed from Saturday\, May 23 through Monday\, May 25. We will reopen on Tuesday\, May 26.
URL:https://whartonarts.org/calendar/memorial-day-weekend-offices-closed/
CATEGORIES:NJYC,NJYS,PAS,PMP,Wharton
ATTACH;FMTTYPE=image/png:https://whartonarts.org/wp-content/uploads/2022/09/cropped-favicon.png
END:VEVENT
BEGIN:VEVENT
DTSTART;TZID=America/New_York:20260530T100000
DTEND;TZID=America/New_York:20260530T140000
DTSTAMP:20260422T110729
CREATED:20260126T231358Z
LAST-MODIFIED:20260324T193849Z
UID:10000444-1780135200-1780149600@whartonarts.org
SUMMARY:PMP: Community Day
DESCRIPTION:PMP Community Day\nMay 30\, 2026 at 10:00 a.m.-2:00 p.m.\nJohn F Kennedy High School\, Paterson\nFREE Event \nClose out the season with an event for the whole family! Enjoy games\, crafts\, food and performances by PMP students.
URL:https://whartonarts.org/calendar/pmp-community-day/
LOCATION:John F. Kennedy High School\, 61-127 Preakness Avenue\, Paterson\, NJ\, 07522\, United States
CATEGORIES:PMP,Wharton
ATTACH;FMTTYPE=image/jpeg:https://whartonarts.org/wp-content/uploads/2026/01/Community-Festival-2-scaled.jpg
ORGANIZER;CN="PMP":MAILTO:info@PatersonMusicProject.org
END:VEVENT
BEGIN:VEVENT
DTSTART;VALUE=DATE:20260619
DTEND;VALUE=DATE:20260620
DTSTAMP:20260422T110729
CREATED:20251114T193003Z
LAST-MODIFIED:20251114T193003Z
UID:10000412-1781827200-1781913599@whartonarts.org
SUMMARY:Juneteenth: WA Offices Closed
DESCRIPTION:Wharton Arts administrative offices will be on Friday\, June 19th.
URL:https://whartonarts.org/calendar/juneteenth-wa-offices-closed-2/
CATEGORIES:NJYC,NJYS,PAS,PMP,Wharton
ATTACH;FMTTYPE=image/png:https://whartonarts.org/wp-content/uploads/2022/09/cropped-favicon.png
END:VEVENT
END:VCALENDAR