BEGIN:VCALENDAR
VERSION:2.0
PRODID:-//Wharton Arts - ECPv6.15.20//NONSGML v1.0//EN
CALSCALE:GREGORIAN
METHOD:PUBLISH
X-ORIGINAL-URL:https://whartonarts.org
X-WR-CALDESC:Events for Wharton Arts
REFRESH-INTERVAL;VALUE=DURATION:PT1H
X-Robots-Tag:noindex
X-PUBLISHED-TTL:PT1H
BEGIN:VTIMEZONE
TZID:America/New_York
BEGIN:DAYLIGHT
TZOFFSETFROM:-0500
TZOFFSETTO:-0400
TZNAME:EDT
DTSTART:20250309T070000
END:DAYLIGHT
BEGIN:STANDARD
TZOFFSETFROM:-0400
TZOFFSETTO:-0500
TZNAME:EST
DTSTART:20251102T060000
END:STANDARD
BEGIN:DAYLIGHT
TZOFFSETFROM:-0500
TZOFFSETTO:-0400
TZNAME:EDT
DTSTART:20260308T070000
END:DAYLIGHT
BEGIN:STANDARD
TZOFFSETFROM:-0400
TZOFFSETTO:-0500
TZNAME:EST
DTSTART:20261101T060000
END:STANDARD
BEGIN:DAYLIGHT
TZOFFSETFROM:-0500
TZOFFSETTO:-0400
TZNAME:EDT
DTSTART:20270314T070000
END:DAYLIGHT
BEGIN:STANDARD
TZOFFSETFROM:-0400
TZOFFSETTO:-0500
TZNAME:EST
DTSTART:20271107T060000
END:STANDARD
END:VTIMEZONE
BEGIN:VEVENT
DTSTART;TZID=America/New_York:20260509T103000
DTEND;TZID=America/New_York:20260509T123000
DTSTAMP:20260425T114828
CREATED:20260424T163611Z
LAST-MODIFIED:20260424T171206Z
UID:10000455-1778322600-1778329800@whartonarts.org
SUMMARY:Instrument Petting Zoo
DESCRIPTION:Instrument Petting Zoo\nFor Ages 4-7\nSaturday\, May 9\n10:30 a.m. – 12:30 p.m.\nFREE Event\nPerforming Arts School Front Lawn\n60 Locust Avenue\, Berkeley Heights \nThis is a relaxed\, hands-on event where young children can:\n🎶 Try a variety of instruments (violin\, winds\, percussion\, and more)\n🎶 Explore rhythm and movement through guided activities\n🎶 Build comfort and curiosity around music in a playful setting\n🎶 Meet our faculty and staff \nQuestions? Call (908) 790-0700 or email info@whartonarts.org.
URL:https://whartonarts.org/calendar/instrument-petting-zoo/
LOCATION:Wharton Institute for the Performing Arts\, 60 Locust Avenue\, Berkeley Heights\, NJ\, 07922\, United States
CATEGORIES:PAS,PAS Current Students,Wharton
ATTACH;FMTTYPE=image/jpeg:https://whartonarts.org/wp-content/uploads/2026/04/Summer-Camp-Illustration-Exploration-of-Instruments-scaled.jpg
END:VEVENT
END:VCALENDAR